BEGIN:VCALENDAR
VERSION:2.0
PRODID:-//The Accelerated Schools - ECPv4.9.6//NONSGML v1.0//EN
CALSCALE:GREGORIAN
METHOD:PUBLISH
X-WR-CALNAME:The Accelerated Schools
X-ORIGINAL-URL:https://www.accelerated.org
X-WR-CALDESC:Events for The Accelerated Schools
BEGIN:VTIMEZONE
TZID:"America/Los_Angeles"
BEGIN:DAYLIGHT
TZOFFSETFROM:-0800
TZOFFSETTO:-0700
TZNAME:PDT
DTSTART:20230312T100000
END:DAYLIGHT
BEGIN:STANDARD
TZOFFSETFROM:-0700
TZOFFSETTO:-0800
TZNAME:PST
DTSTART:20231105T090000
END:STANDARD
END:VTIMEZONE
BEGIN:VEVENT
DTSTART;VALUE=DATE:20230605
DTEND;VALUE=DATE:20230608
DTSTAMP:20260421T091855
CREATED:20230317T225347Z
LAST-MODIFIED:20230317T225354Z
UID:19245-1685923200-1686182399@www.accelerated.org
SUMMARY:Minimum Day
DESCRIPTION:
URL:https://www.accelerated.org/event/minimum-days-2/
CATEGORIES:ACES,TAS,WAHS
END:VEVENT
BEGIN:VEVENT
DTSTART;TZID="America/Los_Angeles":20230606T100000
DTEND;TZID="America/Los_Angeles":20230606T113000
DTSTAMP:20260421T091855
CREATED:20230317T225727Z
LAST-MODIFIED:20230317T225727Z
UID:19252-1686045600-1686051000@www.accelerated.org
SUMMARY:WAHS Senior Graduate Parade Walk
DESCRIPTION:Location: TAS/WAHS Quad\, ACES Campus \n
URL:https://www.accelerated.org/event/wahs-senior-graduate-parade-walk/
CATEGORIES:WAHS
END:VEVENT
BEGIN:VEVENT
DTSTART;TZID="America/Los_Angeles":20230606T113000
DTEND;TZID="America/Los_Angeles":20230606T123000
DTSTAMP:20260421T091856
CREATED:20230317T225822Z
LAST-MODIFIED:20230317T225822Z
UID:19254-1686051000-1686054600@www.accelerated.org
SUMMARY:WAHS Senior Brunch
DESCRIPTION:Location: Panther Den \n
URL:https://www.accelerated.org/event/wahs-senior-brunch/
CATEGORIES:WAHS
END:VEVENT
BEGIN:VEVENT
DTSTART;TZID="America/Los_Angeles":20230606T160000
DTEND;TZID="America/Los_Angeles":20230606T183000
DTSTAMP:20260421T091856
CREATED:20230317T225928Z
LAST-MODIFIED:20230317T225928Z
UID:19256-1686067200-1686076200@www.accelerated.org
SUMMARY:WAHS Spring Awards
DESCRIPTION:Location: TAS/WAHS Gym \n
URL:https://www.accelerated.org/event/wahs-spring-awards/
CATEGORIES:WAHS
END:VEVENT
END:VCALENDAR