BEGIN:VCALENDAR
VERSION:2.0
PRODID:-//The Accelerated Schools - ECPv4.9.6//NONSGML v1.0//EN
CALSCALE:GREGORIAN
METHOD:PUBLISH
X-WR-CALNAME:The Accelerated Schools
X-ORIGINAL-URL:https://www.accelerated.org
X-WR-CALDESC:Events for The Accelerated Schools
BEGIN:VTIMEZONE
TZID:"America/Los_Angeles"
BEGIN:DAYLIGHT
TZOFFSETFROM:-0800
TZOFFSETTO:-0700
TZNAME:PDT
DTSTART:20190310T100000
END:DAYLIGHT
BEGIN:STANDARD
TZOFFSETFROM:-0700
TZOFFSETTO:-0800
TZNAME:PST
DTSTART:20191103T090000
END:STANDARD
END:VTIMEZONE
BEGIN:VEVENT
DTSTART;VALUE=DATE:20191113
DTEND;VALUE=DATE:20191114
DTSTAMP:20260426T042221
CREATED:20190729T060800Z
LAST-MODIFIED:20190819T163714Z
UID:519-1573603200-1573689599@www.accelerated.org
SUMMARY:Parent Night (TAS)
DESCRIPTION:
URL:https://www.accelerated.org/event/parent-night-tas-111319/
CATEGORIES:TAS
END:VEVENT
BEGIN:VEVENT
DTSTART;TZID="America/Los_Angeles":20191113T080000
DTEND;TZID="America/Los_Angeles":20191113T090000
DTSTAMP:20260426T042221
CREATED:20190729T081315Z
LAST-MODIFIED:20191112T173014Z
UID:605-1573632000-1573635600@www.accelerated.org
SUMMARY:Coffee with Principal (ACES)
DESCRIPTION:
URL:https://www.accelerated.org/event/coffee-with-principal-aces-111519/
CATEGORIES:ACES
END:VEVENT
END:VCALENDAR