BEGIN:VCALENDAR
VERSION:2.0
PRODID:-//The Accelerated Schools - ECPv4.9.6//NONSGML v1.0//EN
CALSCALE:GREGORIAN
METHOD:PUBLISH
X-WR-CALNAME:The Accelerated Schools
X-ORIGINAL-URL:https://www.accelerated.org
X-WR-CALDESC:Events for The Accelerated Schools
BEGIN:VTIMEZONE
TZID:"America/Los_Angeles"
BEGIN:DAYLIGHT
TZOFFSETFROM:-0800
TZOFFSETTO:-0700
TZNAME:PDT
DTSTART:20190310T100000
END:DAYLIGHT
BEGIN:STANDARD
TZOFFSETFROM:-0700
TZOFFSETTO:-0800
TZNAME:PST
DTSTART:20191103T090000
END:STANDARD
END:VTIMEZONE
BEGIN:VEVENT
DTSTART;VALUE=DATE:20190906
DTEND;VALUE=DATE:20190907
DTSTAMP:20260424T203233
CREATED:20190904T122551Z
LAST-MODIFIED:20190904T123022Z
UID:1349-1567728000-1567814399@www.accelerated.org
SUMMARY:Last Day to Drop Classes
DESCRIPTION:
URL:https://www.accelerated.org/event/last-day-to-drop-classes/
CATEGORIES:WAHS
END:VEVENT
BEGIN:VEVENT
DTSTART;TZID="America/Los_Angeles":20190906T125000
DTEND;TZID="America/Los_Angeles":20190906T131500
DTSTAMP:20260424T203233
CREATED:20190904T122420Z
LAST-MODIFIED:20190904T122420Z
UID:1345-1567774200-1567775700@www.accelerated.org
SUMMARY:Gates Scholarship Workshop - MPR
DESCRIPTION:
URL:https://www.accelerated.org/event/gates-scholarship-workshop-mpr-2/
LOCATION:TAS WAHS MPR
CATEGORIES:WAHS
END:VEVENT
END:VCALENDAR