BEGIN:VCALENDAR
VERSION:2.0
PRODID:-//The Accelerated Schools - ECPv4.9.6//NONSGML v1.0//EN
CALSCALE:GREGORIAN
METHOD:PUBLISH
X-WR-CALNAME:The Accelerated Schools
X-ORIGINAL-URL:https://www.accelerated.org
X-WR-CALDESC:Events for The Accelerated Schools
BEGIN:VTIMEZONE
TZID:"America/Los_Angeles"
BEGIN:DAYLIGHT
TZOFFSETFROM:-0800
TZOFFSETTO:-0700
TZNAME:PDT
DTSTART:20190310T100000
END:DAYLIGHT
BEGIN:STANDARD
TZOFFSETFROM:-0700
TZOFFSETTO:-0800
TZNAME:PST
DTSTART:20191103T090000
END:STANDARD
END:VTIMEZONE
BEGIN:VEVENT
DTSTART;TZID="America/Los_Angeles":20191119T153000
DTEND;TZID="America/Los_Angeles":20191119T170000
DTSTAMP:20260422T124824
CREATED:20191113T224142Z
LAST-MODIFIED:20191113T224142Z
UID:2827-1574177400-1574182800@www.accelerated.org
SUMMARY:Schools Site Council #4 (ACES)
DESCRIPTION:
URL:https://www.accelerated.org/event/schools-site-council-4-aces/
CATEGORIES:ACES
END:VEVENT
END:VCALENDAR